BEGIN:VCALENDAR
VERSION:2.0
PRODID:-//hacksw/handcal//NONSGML v1.0//EN
BEGIN:VEVENT
SUMMARY:CMER021
UID:427b7f89-7690-4d8e-a1eb-b619d1c872e7
DTSTART:20260424T220000Z
DTEND:20260425T220000Z
LOCATION:Localisation   
CATEGORIES:Sportif
STATUS:
URL;VALUE=URI:https://www.vence-volleyball.com/evenements/2026/04/25/cmer021-2426275
END:VEVENT
BEGIN:VEVENT
SUMMARY:CMER022
UID:d23f6946-391f-4b92-b773-9a499feec76c
DTSTART:20260509T220000Z
DTEND:20260510T220000Z
LOCATION:Localisation   
CATEGORIES:Sportif
STATUS:
URL;VALUE=URI:https://www.vence-volleyball.com/evenements/2026/05/10/cmer022-2426276
END:VEVENT
BEGIN:VEVENT
SUMMARY:CMER027
UID:97764c92-81af-42f5-8c58-84f0ec61ce3e
DTSTART:20260522T220000Z
DTEND:20260523T220000Z
LOCATION:Localisation   
CATEGORIES:Sportif
STATUS:
URL;VALUE=URI:https://www.vence-volleyball.com/evenements/2026/05/23/cmer027-2426277
END:VEVENT
BEGIN:VEVENT
SUMMARY:CMER029
UID:22e5f093-ddad-4d52-9d48-6119a3ca7309
DTSTART:20260529T220000Z
DTEND:20260530T220000Z
LOCATION:Localisation   
CATEGORIES:Sportif
STATUS:
URL;VALUE=URI:https://www.vence-volleyball.com/evenements/2026/05/30/cmer029-2426278
END:VEVENT
END:VCALENDAR
